BEGIN:VCALENDAR
PRODID:-//Det Danske Spejderkorps//NONSGML Gruppeweb//EN
VERSION:2.0
CALSCALE:GREGORIAN
X-PUBLISHED-TTL:PT1H
X-WR-CALNAME:Mikro-Minispejder
METHOD:PUBLISH
BEGIN:VEVENT
UID:gruppeweb.dk:7808:event:3963
DTSTAMP:20260422T133809Z
LAST-MODIFIED:20250904T182943Z
SUMMARY:Spejdermøde
DESCRIPTION:\n
URL:https://www.tjorringspejderne.dk/begivenhed/spejdermoede
DTSTART:20251127T160000Z
DTEND:20251127T173000Z
LOCATION:Tjørringspejderne\, Ålykkevej 15\, 7400 Herning
END:VEVENT
BEGIN:VEVENT
UID:gruppeweb.dk:7808:event:3964
DTSTAMP:20260422T133809Z
LAST-MODIFIED:20250904T182943Z
SUMMARY:Spejdermøde
DESCRIPTION:\n
URL:https://www.tjorringspejderne.dk/begivenhed/spejdermoede-0
DTSTART:20251120T160000Z
DTEND:20251120T173000Z
LOCATION:Tjørringspejderne\, Ålykkevej 15\, 7400 Herning
END:VEVENT
BEGIN:VEVENT
UID:gruppeweb.dk:7808:event:3965
DTSTAMP:20260422T133809Z
LAST-MODIFIED:20250904T182943Z
SUMMARY:Spejdermøde
DESCRIPTION:\n
URL:https://www.tjorringspejderne.dk/begivenhed/spejdermoede-1
DTSTART:20251113T160000Z
DTEND:20251113T173000Z
LOCATION:Tjørringspejderne\, Ålykkevej 15\, 7400 Herning
END:VEVENT
BEGIN:VEVENT
UID:gruppeweb.dk:7808:event:3966
DTSTAMP:20260422T133809Z
LAST-MODIFIED:20250904T182943Z
SUMMARY:Spejdermøde
DESCRIPTION:\n
URL:https://www.tjorringspejderne.dk/begivenhed/spejdermoede-2
DTSTART:20251106T160000Z
DTEND:20251106T173000Z
LOCATION:Tjørringspejderne\, Ålykkevej 15\, 7400 Herning
END:VEVENT
BEGIN:VEVENT
UID:gruppeweb.dk:7808:event:3967
DTSTAMP:20260422T133809Z
LAST-MODIFIED:20250904T182943Z
SUMMARY:Spejdermøde
DESCRIPTION:\n
URL:https://www.tjorringspejderne.dk/begivenhed/spejdermoede-3
DTSTART:20251030T160000Z
DTEND:20251030T173000Z
LOCATION:Tjørringspejderne\, Ålykkevej 15\, 7400 Herning
END:VEVENT
BEGIN:VEVENT
UID:gruppeweb.dk:7808:event:3968
DTSTAMP:20260422T133809Z
LAST-MODIFIED:20250904T182943Z
SUMMARY:Spejdermøde
DESCRIPTION:\n
URL:https://www.tjorringspejderne.dk/begivenhed/spejdermoede-4
DTSTART:20251023T150000Z
DTEND:20251023T163000Z
LOCATION:Tjørringspejderne\, Ålykkevej 15\, 7400 Herning
END:VEVENT
BEGIN:VEVENT
UID:gruppeweb.dk:7808:event:3970
DTSTAMP:20260422T133809Z
LAST-MODIFIED:20250904T182943Z
SUMMARY:Spejdermøde
DESCRIPTION:\n
URL:https://www.tjorringspejderne.dk/begivenhed/spejdermoede-5
DTSTART:20251009T150000Z
DTEND:20251009T163000Z
LOCATION:Tjørringspejderne\, Ålykkevej 15\, 7400 Herning
END:VEVENT
BEGIN:VEVENT
UID:gruppeweb.dk:7808:event:3971
DTSTAMP:20260422T133809Z
LAST-MODIFIED:20250904T182943Z
SUMMARY:Spejdermøde
DESCRIPTION:\n
URL:https://www.tjorringspejderne.dk/begivenhed/spejdermoede-6
DTSTART:20251002T150000Z
DTEND:20251002T163000Z
LOCATION:Tjørringspejderne\, Ålykkevej 15\, 7400 Herning
END:VEVENT
BEGIN:VEVENT
UID:gruppeweb.dk:7808:event:3972
DTSTAMP:20260422T133809Z
LAST-MODIFIED:20250904T182943Z
SUMMARY:Spejdermøde
DESCRIPTION:\n
URL:https://www.tjorringspejderne.dk/begivenhed/spejdermoede-7
DTSTART:20250925T150000Z
DTEND:20250925T163000Z
LOCATION:Tjørringspejderne\, Ålykkevej 15\, 7400 Herning
END:VEVENT
BEGIN:VEVENT
UID:gruppeweb.dk:7808:event:3975
DTSTAMP:20260422T133809Z
LAST-MODIFIED:20250904T182943Z
SUMMARY:Spejdermøde
DESCRIPTION:\n
URL:https://www.tjorringspejderne.dk/begivenhed/spejdermoede-8
DTSTART:20250904T150000Z
DTEND:20250904T163000Z
LOCATION:Tjørringspejderne\, Ålykkevej 15\, 7400 Herning
END:VEVENT
BEGIN:VEVENT
UID:gruppeweb.dk:7808:event:3976
DTSTAMP:20260422T133809Z
LAST-MODIFIED:20250904T182943Z
SUMMARY:Spejdermøde
DESCRIPTION:\n
URL:https://www.tjorringspejderne.dk/begivenhed/spejdermoede-9
DTSTART:20250828T150000Z
DTEND:20250828T163000Z
LOCATION:Tjørringspejderne\, Ålykkevej 15\, 7400 Herning
END:VEVENT
BEGIN:VEVENT
UID:gruppeweb.dk:7808:event:3977
DTSTAMP:20260422T133809Z
LAST-MODIFIED:20250904T182943Z
SUMMARY:Spejdermøde
DESCRIPTION:\n
URL:https://www.tjorringspejderne.dk/begivenhed/spejdermoede-10
DTSTART:20250821T150000Z
DTEND:20250821T163000Z
LOCATION:Tjørringspejderne\, Ålykkevej 15\, 7400 Herning
END:VEVENT
BEGIN:VEVENT
UID:gruppeweb.dk:7808:event:4330
DTSTAMP:20260422T133809Z
LAST-MODIFIED:20251122T180431Z
SUMMARY:Juletur 2025
DESCRIPTION:/I*nvitation til Tjørringspejdernes juletur\,*/\n\n/*Tilmeld g
 erne hurtigst mulig og allersenest den 20. november*/\n\n/En rigtig hyggel
 ig weekend fyldt med julehygge\, og masser af frisk luft i  \nden dejlige 
 skov./\n\n/\n/\n\n*/Spejderne ud og hjælpe nissebanden med at få det god
 e  \njulehumør tilbage. /*\n\n*/Og forhåbentlig finder de også julema
 ndens ønskesten\, inden de falder i  \nde forkerte hænder./*\n\n\n/Maden
  som består af den dejligste julemad bliver lavet af de søde  \nkøkkenh
 jælpere./\n\n/Søndag slutter vi af med en overdådig julefrokost/\n\n*Ti
 dspunkt:*                       \nJunior/Trop – a
 nkomst - fredag den 28 nov. klokken 19.00\nMikro/mini + Familiespejderne 
 – ankomst lørdag den 29. nov. klokken  \n09.30 \n\n\n\nSluttidspunkt s
 øndag den 1. december ca. klokken 14.\n\n\n/Husk betaling via MobilePay o
 g tilmelding via tilmeldingen her til højre  \npå siden//\n//Find mere i
 nformation om Juleturen i indbydelsen her til højre på  \nsiden.//\n/\n\
 n
URL:https://www.tjorringspejderne.dk/begivenhed/juletur-2025
DTSTART:20251128T180000Z
DTEND:20251130T130000Z
LOCATION:Røddinglundcentret\, Røddingvej 21B\, 7400 Herning
END:VEVENT
BEGIN:VEVENT
UID:gruppeweb.dk:7808:event:4428
DTSTAMP:20260422T133809Z
LAST-MODIFIED:20260419T185145Z
SUMMARY:Spejderlejr for hele gruppen i Skærbæk
DESCRIPTION:Kære Alle\n\n\nI år laver vi en fælles spejderlejr til vores
  dejlige hytte i Rind  \nplantage.\n\nHytten ligger på Rind plantagevej 7
 \, 7400 Herning\n\nDenne lejr er for alle spejdere i Tjørring gruppe lige
  fra familiespejder  \ntil senior\n\n\n*Bemærk: Tilmelding senest den 19.
  april 2026*\n\n\nVi mødes ved spejderhuset fredag d. 5 juni kl 10.\n\n\n
 Mini/mikro og familiespejdere skal have deres cykel med\, da vi sammen cyk
 ler\n\n\nud til hytten i Rind. En cykeltur på ca 10 km med stop undervejs
 .\n\n\nJunior og trop skal gå ud til hytten i Rind.\n\n\nSpejderne skal h
 ave en lille taske med madpakke og drikkedunk\, som de kan\n\n\nhave på r
 yggen på turen ud til hytten. Alt bagage bliver kørt derud.\n\n\nI Rind 
 vil vi hygge med diverse spejderaktiviteter. Sove i telt. Lave mad  \nover
  bål\n\n\nsamt hygge ved lejrbålet om aftenen.\n\n\nMed spejderhilsen fr
 a Tjørringspejderne\n\n\n
URL:https://www.tjorringspejderne.dk/begivenhed/spejderlejr-hele-gruppen-i-
 skaerbaek
DTSTART;VALUE=DATE:20260605
DTEND;VALUE=DATE:20260608
LOCATION:Skærbækhytten\, Rind Plantagevej 7\, 7400 Herning
END:VEVENT
BEGIN:VEVENT
UID:gruppeweb.dk:7808:event:4431
DTSTAMP:20260422T133809Z
LAST-MODIFIED:20260326T213153Z
SUMMARY:Kilometerweekend
DESCRIPTION:\n
URL:https://www.tjorringspejderne.dk/begivenhed/kilometerweekend-0
DTSTART:20260418T100000Z
DTEND:20260419T100000Z
LOCATION:Tjørringspejderne\, Ålykkevej 15\, 7400 Herning
END:VEVENT
BEGIN:VEVENT
UID:gruppeweb.dk:7808:event:4231
DTSTAMP:20260422T133809Z
LAST-MODIFIED:20250904T190611Z
SUMMARY:Ulvetur 2025 - Uden overnatning
DESCRIPTION:*Bemærk:*\n\nEfter tilmelding får man en bekræftelse på til
 melding\, der kan dog gå op  \ntil 10 minutter inden den havner i jeres i
 ndbakke.\n\n*Efter tilmelding betales 180 kr. pr. person. -  Prisen er 
 inkl. entré  \ntil parken samt forplejning. på mobilepay.   Nummer:
  22735 - Brug  \nkategorien” Ulvetur 2025” *\n\n*(Husk navn på den
  der betales for under bemærkning) (Kun en tilmelding og  \nbetaling pr s
 pejder/leder)*\n\n\n\n**\n\n\n\n\n\nEr du familiespejder\, mikro spejder e
 ller havde du ikke mulighed for at  \novernatte\, med os i parken. Så få
 r du nu et andet tilbud. Vi skal på løb  \nrundt i Givskud løvepark. Un
 dervejs på løbet kommer vi forbi alle parkens  \ndyr. Så vi bla. kan hi
 lse på aberne\, se løverne og ulvene. Mon ikke der  \nogså bliver tid t
 il en tur  på legepladsen.\n\n\n\n\nGruppen sørger for forplejning i l
 øbet af dagen i form af frokost samt  \neftermiddagssnack.\n\n\n\n
URL:https://www.tjorringspejderne.dk/begivenhed/ulvetur-2025-uden-overnatni
 ng
DTSTART:20250907T080000Z
DTEND:20250907T140000Z
LOCATION:Givskud Zoo\, Løveparkvej 3\, 7323 Give
END:VEVENT
BEGIN:VEVENT
UID:gruppeweb.dk:7808:event:4232
DTSTAMP:20260422T133809Z
LAST-MODIFIED:20250904T190509Z
SUMMARY:Ulvetur 2025 - med overnatning
DESCRIPTION:*Bemærk:*\n\nEfter tilmelding får man en bekræftelse på til
 melding\, der kan dog gå op  \ntil 10 minutter inden den havner i jeres i
 ndbakke.\n\n*Efter tilmelding betales 300 kr på mobilepay på n**ummer: 
 22735 - Brug  \nkategorien” Ulvetur 2025”\n(Husk navn på den der bet
 ales for under bemærkning)\n(Kun en tilmelding og betaling pr spejder/led
 er)*\n\n\n\nVi skal en tur i Givskud zoo\, se en masse store dyr\, lave ma
 d over bål og  \nså skal vi sove lige ved ulve anlægget. \n\nAt sove s
 ammen med ulvene i deres anlæg\, dog i sikker afstand\, så de ikke  \nka
 n komme helt nær os\, er en kæmpe oplevelse for børnene. Vi er glade fo
 r  \nat kunne give spejderne denne store oplevelse det er\, at komme helt 
 tæt på  \nulvene\, kunne høre dem om natten\, og mærke stemningen fra 
 prærien ved  \nsiden af. Vi har adgang til hele parken efter lukketid\, h
 vor vi skal lave mad  \nover bål og opleve den helt særlige stemning i p
 arken om aftenen\, når  \ndyrene falder til ro og solen går ned over par
 ken. \n\nTuren giver også fri entre til deltagerne til Givsskud zoo begg
 e dage. Efter  \nparken lukker har vi en guide til rådighed og forhåbent
 ligt har han/hun tid  \ntil\, at give os et foredrag om ulvenes liv. \n\n
 Vi håber selvfølgelig at I forældre er med på\, at give spejderne denn
 e  \nenestående mulighed for en fantastisk oplevelse. \n\n
URL:https://www.tjorringspejderne.dk/begivenhed/ulvetur-2025-med-overnatnin
 g
DTSTART:20250906T080000Z
DTEND:20250907T140000Z
LOCATION:Givskud Zoo\, Løveparkvej 3\, 7323 Give
END:VEVENT
BEGIN:VEVENT
UID:gruppeweb.dk:7808:event:4430
DTSTAMP:20260422T133809Z
LAST-MODIFIED:20260127T164612Z
SUMMARY:Sct.Georgsdag
DESCRIPTION:\n*Indbydelse til***Sct.Georgs dag**\n**-En dag hvor I forældr
 e ikke skal bekymre jer om aftensmaden.**\nI kan nemlig komme ud at spise 
 med hele familien i godt spejderselskab\n\n\n*Sæt derfor kryds i kalender
 en - Torsdag den 23. april 2026*\n\n\n\nHer holder vi den traditionsrige 
 Sct. Georgs dag\, hvor spejdere og ledere i  \nsamarbejde laver aftensmade
 n til alle. \n\n\n\n
URL:https://www.tjorringspejderne.dk/begivenhed/sctgeorgsdag-0
DTSTART:20260423T150000Z
DTEND:20260423T171500Z
LOCATION:
END:VEVENT
BEGIN:VEVENT
UID:gruppeweb.dk:7808:event:4434
DTSTAMP:20260422T133809Z
LAST-MODIFIED:20260416T204251Z
SUMMARY:Spejderdagen
DESCRIPTION:*Spejder er store oplevelser\, stærkt fællesskab\, sug i mave
 n\, sved på  \npanden – og selvtillid for livet.*\n\nFor at give flere 
 mulighed for at opleve det gode spejderliv inviterer vi til  \nåbent hus 
 / spejderdag den *10. maj 2026 kl. 9.30–11.30*.\n\nDenne dag kan børn 
 og deres voksne komme på besøg hos Tjørringspejderne  \nog se\, høre o
 g opleve\, hvordan det er at være spejder. I kan gå på  \nopdagelse i v
 ores dejlige område og besøge vores spejderhytte på  \nÅlykkevej 15 i 
 Herning.\n\nVi skal lave spejderaktiviteter\, bage pandekager over bål\, 
 lege og have det  \nsjovt i naturen.\nSpejderdagen bliver både sjov\, udf
 ordrende og hyggelig.\n\nNår dagen er omme\, har du helt sikkert lært no
 get nyt – og måske fået  \nnye venner undervejs.\n\nHusk at tage tøj 
 på efter vejret\, da vi er udenfor hele tiden.\n\nFind tilmeldingen til s
 pejderdagen her. [1]\n\n*Vi glæder os til at byde jer velkommen til spejd
 er!*\n\n\n[1] https://www.tjorringspejderne.dk/kampagne/spejderdag\n
URL:https://www.tjorringspejderne.dk/begivenhed/spejderdagen
DTSTART;VALUE=DATE:20260510
LOCATION:
END:VEVENT
END:VCALENDAR
